BEGIN:VCALENDAR
VERSION:2.0
PRODID:-//wp-events-plugin.com//7.2.3.1//EN
TZID:Europe/Berlin
X-WR-TIMEZONE:Europe/Berlin
BEGIN:VEVENT
UID:101@kurse.millersquilting.de
DTSTART;TZID=Europe/Berlin:20170729T100000
DTEND;TZID=Europe/Berlin:20170729T173000
DTSTAMP:20170530T140244Z
URL:https://kurse.millersquilting.de/events/sommerfest-2017/
SUMMARY:Sommerfest 2017 - Handquiltzentrum - 29 Juli 17 10:00 #_EVENTPICTUR
 E
DESCRIPTION:\n\n&nbsp\;\n\nLiebe Quiltfamilie und Freunde\,\n\nIhr seid her
 zlich eingeladen zu unserem...\n\nSommerfest 2017!\n\nSamstag 29. Juli\n\n
 10:00 - 17:30 Uhr\n\nBitte bringt eure schönen Quilts mit\, damit wir sie
  auf die Leinen hängen können (möglichst um 10:00 Uhr).&nbsp\; Auch Kuc
 hen ober Knabberzeug fürs Buffet wird dankend angenommen.&nbsp\; Für Get
 ränke wird gesorgt.\nHighlights:\nGrit Kovacs präsentiert ihr Meisterwer
 k "La Passion"\n\n[caption id="attachment_866" align="aligncenter" width="
 640"] La Passion von Grit Kovacs[/caption]\n\n\n\nIn nur 2\,5 Jahren hat G
 rit Kovacs 17250 Hexagons zu einem wahren Meisterwerk verbunden. Bereits 1
 1 mal ausgezeichnet\, hat dieser Quilt eine schnell wachsende Anhängersch
 aft. Variationen des "La Passion" werden weltweit nachgearbeitet. Wer scho
 n einen eigenen begonnen hat oder gar fertig gestellt hat darf sein Werk g
 erne bei uns zeigen. Grit wird vorführen und Tipps weitergeben um Interes
 sierte zu inspirieren.\nMehr Infos zu Grit: http://gritslife1.blogspot.de/
 p/hexagonquilt.html\n\n\n\n&nbsp\;\n\n&nbsp\;\n\n&nbsp\;\n\n&nbsp\;\n\n&nb
 sp\;\n\n&nbsp\;\n\n&nbsp\;\n\n&nbsp\;\n\nWeitere Highlights:\n\n 	Quilting
 bee im Freien\n 	ab 15:00 Uhr:&nbsp\; Vorstellung des Projektes "Spreading
  the Comfort" und S.E.E.D. Ministries Haiti und Versteigerung eines "Sprea
 ding the Comfort"- Quilts hergestellt im Kurs für Quiltdesign mit Esther 
 Miller\n 	Quiltrahmen aus der Werkstatt von Millers Quilting &amp\; Quilts
  aus den Kursen für Fortgeschrittene zu besichtigen\n\n"Spreading the Com
 fort"\nQUILTAUKTION\n"Spreading the Comfort" nennen wir unsere\n\nInitiati
 ve\, in der wir den "comfort" (in Deutsch: Behaglichkeit\, Trost)\, den wi
 r wie selbstverständlich genießen\, mit anderen teilen möchten.\nIm Rah
 men dieses Projektes werden wir in den kommenden Jahren immer wieder Quilt
 s versteigern\, deren Erlös gemeinnützigen Projekten zugute kommt.&nbsp\
 ; In diesem Jahr werden wir sämtliche Einnahmen der S.E.E.D. Ministries i
 n Haiti zur Verfügung stellen.\n\n[caption id="attachment_801" align="ali
 gnright" width="356"] Wer bietet auf mich zum Sommerfest 2017?[/caption]\n
 \nTraditionell kennt man die "relief sales" in den USA\, an denen viele hu
 nderte Quilts an Höchstbietende versteigert werden. Der Erlös kommt auch
  hier einem guten Zweck zugute. Bei diesen Versteigerungen geht es nicht u
 m eine Zeit\, die abläuft\, so wie Ihr es bei dem gut bekannten Internetp
 ortal kennt. Jeder hat Zeit den anderen zu überbieten oder noch einen dra
 uf zu legen. Erst wenn es keine weiteren Gebote gibt heisst es: zum Ersten
 \, zum zweiten.. zum... Dritten. Verkauft an den Mann mit Hut.\n\nDa nicht
  alle von Euch zu unserem Fest kommen können\, möchten wir neben der obe
 n beschriebenen Art der Versteigerung auch die Möglichkeit bieten\, von d
 er Ferne mit zu bieten:\n\nUnter folgendem Link könnt Ihr also am 23.7.20
 16 um 15:00 Uhr (sobald die Auktion begonnen hat)\, die Gebote mitverfolge
 n und bei Bedarf auch mitbieten: http://kurse.millersquilting.de/auctions/
 &nbsp\;&nbsp\; ACHTUNG:&nbsp\; wer mitbieten möchte\, sollte sich frühze
 itig einloggen\, um im entscheidenden Moment bieten zu können.&nbsp\; Die
  mitlaufende Uhr auf dieser Seite hat für Euch Bietende keine Bedeutung\,
  die Auktion läuft solange\, bis keine Gebote mehr eingehen. Sollte die U
 hr ablaufen obwohl noch geboten wird\, werden wir die Zeit verlängern.\n\
 nWem das nicht zusagt\, der kann auch per SMS oder Whatsapp an folgende Nu
 mmer: 0176 7044 7680 Gebote abgeben. Auch diese werden als Gebote auf der 
 Internetseite angezeigt\, damit alles nachvollziehbar bleibt.\n\nWer das l
 etzte Gebot abgibt\, der bekommt den Zuschlag und ist zur Zahlung verpflic
 htet.\n&nbsp\;\n[caption id="attachment_794" align="alignleft" width="300"
 ] Die Millersquilting Mannschaft\, Sommerfest 2015![/caption]\nKurzvorstel
 lung S.E.E.D. Ministries\nWir unterstützen unsere persönlichen Freunde u
 nd Gründer der Arbeit S.E.E.D. Ministries in Haiti\, Doris und Frantz Clo
 taire. Der Lehrplan ihrer Agrarschule beinhaltet sowohl die praktischen al
 s auch wissenschaftlichen Aspekte der Land-\, Forst-\, und Vieh-Wirtschaft
 . Auch der Umgang mit der Bibel bildet einen Teil des Unterrichts.\nDie Sc
 hüler bei S.E.E.D. leisten einen Anteil ihrer Schulkosten in Form von Arb
 eitsstunden auf dem Schulungsgelände ab. Dies sorgt für die nötige "Erd
 ung" der Schüler\, die bei Ausbildungen oftmals fehlt. Die körperliche A
 rbeit lässt nicht zu\, dass Schüler Scheu davor entwickeln\, sich die H
 ände schmutzig zu machen\, so wie es kulturell bedingt für "Gebildete" 
 üblich wäre.\nNach zwei Jahren Studium werden die Absolventen in das "ex
 tension programm" entsandt. Sie verbringen neun Monate in einem kleinen Or
 t\, in dem sie von der örtlichen Kirchengemeinde ein kleines Stück Land 
 zur Verfügung gestellt bekommen. Dort legen sie einen Lehrgarten an\, anh
 and dessen sie den Bewohnern die erlernten Methoden und Prinzipien vermitt
 eln. Desweiteren werden dort Tiere medizinisch behandelt. Dadurch kommt da
 s Wissen und die Hilfe genau dort an\, wo es am meisten benötigt wird: be
 i der Dorfbevölkerung. Unterstützung erhalten sie durch die monatlichen 
 Besuche der Lehrer.\n\n[caption id="attachment_795" align="alignleft" widt
 h="300"] Beim Sommerfest 2015 waren Freunde und Familie aus Haiti (Doris C
 lotaire\, links) und USA (James &amp\; Esthers Tochter\, Roselynn\, rechts
 ) dabei![/caption]\n\nWir Millers kennen\, schätzen und unterstützen sei
 t über 20 Jahren diese wunderschöne Arbeit und freuen uns\, dieses Anlie
 gen mit euch zu teilen.\n\n&nbsp\;
CATEGORIES:Feste und Veranstaltungen
LOCATION:Handquiltzentrum\, Märkische Str. 3\, Mittenwalde\, 15749\, Brand
 enburg\, Deutschland
GEO:52.17140999999999;13.57732999999996
X-APPLE-STRUCTURED-LOCATION;VALUE=URI;X-ADDRESS=Märkische Str. 3\, Mittenw
 alde\, 15749\, Brandenburg\, Deutschland;X-APPLE-RADIUS=100;X-TITLE=Handqu
 iltzentrum:geo:52.17140999999999,13.57732999999996
END:VEVENT
BEGIN:VTIMEZONE
TZID:Europe/Berlin
X-LIC-LOCATION:Europe/Berlin
BEGIN:DAYLIGHT
DTSTART:20170326T030000
TZOFFSETFROM:+0100
TZOFFSETTO:+0200
TZNAME:CEST
END:DAYLIGHT
END:VTIMEZONE
END:VCALENDAR