BEGIN:VCALENDAR
VERSION:2.0
PRODID:-//wp-events-plugin.com//7.2.3.1//EN
TZID:Europe/Berlin
X-WR-TIMEZONE:Europe/Berlin
BEGIN:VEVENT
UID:167@kurse.millersquilting.de
DTSTART;TZID=Europe/Berlin:20260717T093000
DTEND;TZID=Europe/Berlin:20260718T170000
DTSTAMP:20260302T170244Z
URL:https://kurse.millersquilting.de/events/grundkurs-handquilten-nach-est
 her-miller-6/
SUMMARY:Grundkurs Handquilten nach Esther Miller - Handquiltzentrum - 17 Ju
 li 26 09:30 #_EVENTPICTURE
DESCRIPTION:[ngg src="galleries" ids="2" display="basic_slideshow" gallery_
 width="550" gallery_height="400" arrows="1" transition_style="slide" inter
 val="2000"]Voraussetzung:\n\n\n 	Ausser dem Wunsch und der Motivation etwa
 s Neues zu lernen gibt es keine weiteren Voraussetzungen.\n\nInhalt:\n\n\n
  	Dies ist ein Basiskurs in dem nicht nur Techniken sondern auch Hintergru
 ndinformationen vermittelt werden. Jeder geht am Ende mit einem mehr oder 
 weniger fertigen Musterstück nach Hause.&nbsp\;\n 	Rosie nimmt sich Zeit 
 für jeden Schüler\, damit jeder seine eigenen Probleme und Hindernisse 
 überwindet.&nbsp\;\n\nTechniken:\n\n\n 	\nAn einem feststehenden Rahmen e
 rlernst Du die Techniken\, die zum Quilten in alle Richtungen benötigt we
 rden.\n\n\nHintergrundinformationen:\n\n\n 	Wie Quilten die Amish und Waru
 m?\n 	Warum sind Amish Quilts so fein gearbeitet?\n 	Warum heften die Amis
 h Ihre Quilts nicht vor dem Quilten?\n 	Viele andere Informationen darübe
 r\, was Amish Quilts zu dem gemacht haben was sie sind.\n 	Raum für alle 
 Fragen zu den Amish und Ihren Quilts\, ihrer Lebensweise und Entwicklung.\
 n\nKursdauer: 2 Tage jeweils 9:30-12:30 und 13:30-17:30\nKursgebühr: € 
 285 incl. MwSt.- (für 2 Tage Unterricht inklusive Mittagessen\, Kaffee un
 d Hausgebäck\, sowie Materialkosten)\n\n[ngg src="galleries" ids="23" dis
 play="basic_slideshow" gallery_width="450" gallery_height="350" arrows="1"
  transition_style="slide" interval="2000"]\nMaterial: Bitte Schreibzeug mi
 tbringen für Notizen\nWerkzeug: Werkzeug inkl. Quiltrahmen wird gestellt.
  (Falls Du schon einen Nadelgleiter oder Roxannes Fingerhut besitzt\, wär
 e es gut diese mitzubringen.)\nAnmeldung: Die Anmeldung erfolgt möglichst
  über das Buchungssystem unserer Internetseite. Es stehen verschiedene Za
 hlungsarten zur Verfügung. Die Kursgebühr wird bei der Buchung fällig. 
 Sollte es dir nicht möglich sein über unsere Seite zu buchen\, kannst du
  uns unter unserer Kontaktemail&nbsp\;kursinfo@millersquilting.de anschrei
 ben.\nÜbernachtung: Für Übernachtungsmöglichkeiten in der Nähe hier k
 licken.\n\n\n&nbsp\;
CATEGORIES:Quiltkurse nach Esther Miller
LOCATION:Handquiltzentrum\, Märkische Str. 3\, Mittenwalde\, 15749\, Brand
 enburg\, Deutschland
GEO:52.17140999999999;13.57732999999996
X-APPLE-STRUCTURED-LOCATION;VALUE=URI;X-ADDRESS=Märkische Str. 3\, Mittenw
 alde\, 15749\, Brandenburg\, Deutschland;X-APPLE-RADIUS=100;X-TITLE=Handqu
 iltzentrum:geo:52.17140999999999,13.57732999999996
END:VEVENT
BEGIN:VTIMEZONE
TZID:Europe/Berlin
X-LIC-LOCATION:Europe/Berlin
BEGIN:DAYLIGHT
DTSTART:20260329T030000
TZOFFSETFROM:+0100
TZOFFSETTO:+0200
TZNAME:CEST
END:DAYLIGHT
END:VTIMEZONE
END:VCALENDAR